BEGIN:VCALENDAR
VERSION:2.0
PRODID:https://www.kufer.de/kuferweb / DE
METHOD:PUBLISH
CALSCALE:GREGORIAN
X-WR-TIMEZONE:Europe/Berlin
BEGIN:VTIMEZONE
TZID:Europe/Berlin
X-LIC-LOCATION:Europe/Berlin
BEGIN:DAYLIGHT
TZOFFSETFROM:+0100
TZOFFSETTO:+0200
TZNAME:CEST
DTSTART:19700329T020000
RRULE:FREQ=YEARLY;INTERVAL=1;BYDAY=-1SU;BYMONTH=3
END:DAYLIGHT
BEGIN:STANDARD
TZOFFSETFROM:+0200
TZOFFSETTO:+0100
TZNAME:CET
DTSTART:19701025T030000
RRULE:FREQ=YEARLY;INTERVAL=1;BYDAY=-1SU;BYMONTH=10
END:STANDARD
END:VTIMEZONE
BEGIN:VEVENT
DTSTAMP:20260425T025726
DTSTART;TZID=Europe/Berlin:20260511T100000
DTEND;TZID=Europe/Berlin:20260511T180000
UID:26IP0020-20260511T100000@STUTTGART KVJS
SUMMARY:Umgang mit schwierigen Gesprächspartnern - Vermitteln bei Konflikten (26IP0020) 
LOCATION:Tagungszentrum Gültstein, Schloßstraße 31, 71083 Herrenberg-Gültstein
END:VEVENT
BEGIN:VEVENT
DTSTAMP:20260425T025726
DTSTART;TZID=Europe/Berlin:20260512T090000
DTEND;TZID=Europe/Berlin:20260512T180000
UID:26IP0020-20260512T090000@STUTTGART KVJS
SUMMARY:Umgang mit schwierigen Gesprächspartnern - Vermitteln bei Konflikten (26IP0020) 
LOCATION:Tagungszentrum Gültstein, Schloßstraße 31, 71083 Herrenberg-Gültstein
END:VEVENT
BEGIN:VEVENT
DTSTAMP:20260425T025726
DTSTART;TZID=Europe/Berlin:20260513T090000
DTEND;TZID=Europe/Berlin:20260513T150000
UID:26IP0020-20260513T090000@STUTTGART KVJS
SUMMARY:Umgang mit schwierigen Gesprächspartnern - Vermitteln bei Konflikten (26IP0020) 
LOCATION:Tagungszentrum Gültstein, Schloßstraße 31, 71083 Herrenberg-Gültstein
END:VEVENT
END:VCALENDAR