BEGIN:VCALENDAR
VERSION:2.0
PRODID:https://www.kufer.de/kuferweb / DE
METHOD:PUBLISH
CALSCALE:GREGORIAN
X-WR-TIMEZONE:Europe/Berlin
BEGIN:VTIMEZONE
TZID:Europe/Berlin
X-LIC-LOCATION:Europe/Berlin
BEGIN:DAYLIGHT
TZOFFSETFROM:+0100
TZOFFSETTO:+0200
TZNAME:CEST
DTSTART:19700329T020000
RRULE:FREQ=YEARLY;INTERVAL=1;BYDAY=-1SU;BYMONTH=3
END:DAYLIGHT
BEGIN:STANDARD
TZOFFSETFROM:+0200
TZOFFSETTO:+0100
TZNAME:CET
DTSTART:19701025T030000
RRULE:FREQ=YEARLY;INTERVAL=1;BYDAY=-1SU;BYMONTH=10
END:STANDARD
END:VTIMEZONE
BEGIN:VEVENT
DTSTAMP:20260426T050019
DTSTART;TZID=Europe/Berlin:20261027T100000
DTEND;TZID=Europe/Berlin:20261027T170000
UID:26IP0046-20261027T100000@STUTTGART KVJS
SUMMARY:Mobbing und betriebliche Konflikte - Von A wie Ausgrenzung bis Z wie Zurschaustellung (26IP0046) 
LOCATION:Tagungszentrum Gültstein, Schloßstraße 31, 71083 Herrenberg-Gültstein
END:VEVENT
BEGIN:VEVENT
DTSTAMP:20260426T050019
DTSTART;TZID=Europe/Berlin:20261028T090000
DTEND;TZID=Europe/Berlin:20261028T170000
UID:26IP0046-20261028T090000@STUTTGART KVJS
SUMMARY:Mobbing und betriebliche Konflikte - Von A wie Ausgrenzung bis Z wie Zurschaustellung (26IP0046) 
LOCATION:Tagungszentrum Gültstein, Schloßstraße 31, 71083 Herrenberg-Gültstein
END:VEVENT
BEGIN:VEVENT
DTSTAMP:20260426T050019
DTSTART;TZID=Europe/Berlin:20261029T090000
DTEND;TZID=Europe/Berlin:20261029T150000
UID:26IP0046-20261029T090000@STUTTGART KVJS
SUMMARY:Mobbing und betriebliche Konflikte - Von A wie Ausgrenzung bis Z wie Zurschaustellung (26IP0046) 
LOCATION:Tagungszentrum Gültstein, Schloßstraße 31, 71083 Herrenberg-Gültstein
END:VEVENT
END:VCALENDAR