BEGIN:VCALENDAR
VERSION:2.0
PRODID:https://www.kufer.de/kuferweb / DE
METHOD:PUBLISH
CALSCALE:GREGORIAN
X-WR-TIMEZONE:Europe/Berlin
BEGIN:VTIMEZONE
TZID:Europe/Berlin
X-LIC-LOCATION:Europe/Berlin
BEGIN:DAYLIGHT
TZOFFSETFROM:+0100
TZOFFSETTO:+0200
TZNAME:CEST
DTSTART:19700329T020000
RRULE:FREQ=YEARLY;INTERVAL=1;BYDAY=-1SU;BYMONTH=3
END:DAYLIGHT
BEGIN:STANDARD
TZOFFSETFROM:+0200
TZOFFSETTO:+0100
TZNAME:CET
DTSTART:19701025T030000
RRULE:FREQ=YEARLY;INTERVAL=1;BYDAY=-1SU;BYMONTH=10
END:STANDARD
END:VTIMEZONE
BEGIN:VEVENT
DTSTAMP:20260426T045304
DTSTART;TZID=Europe/Berlin:20260414T100000
DTEND;TZID=Europe/Berlin:20260414T180000
UID:26JB0001-20260414T100000@STUTTGART KVJS
DESCRIPTION:1. Abschnitt: 14./15.04.2026 mit Übernachtung
SUMMARY:Die neue Rolle als Führungskraft (26JB0001) 
LOCATION:Bildungszentrum Schloss Flehingen, Gochsheimer Str. 19, 75038 Oberderdingen
END:VEVENT
BEGIN:VEVENT
DTSTAMP:20260426T045304
DTSTART;TZID=Europe/Berlin:20260415T090000
DTEND;TZID=Europe/Berlin:20260415T170000
UID:26JB0001-20260415T090000@STUTTGART KVJS
DESCRIPTION:1. Abschnitt: 14./15.04.2026 mit Übernachtung
SUMMARY:Die neue Rolle als Führungskraft (26JB0001) 
LOCATION:Bildungszentrum Schloss Flehingen, Gochsheimer Str. 19, 75038 Oberderdingen
END:VEVENT
BEGIN:VEVENT
DTSTAMP:20260426T045304
DTSTART;TZID=Europe/Berlin:20260505T130000
DTEND;TZID=Europe/Berlin:20260505T170000
UID:26JB0001-20260505T130000@STUTTGART KVJS
DESCRIPTION:2. Abschnitt: 05.05.2026
SUMMARY:Die neue Rolle als Führungskraft (26JB0001) 
LOCATION:Online-Seminar
END:VEVENT
BEGIN:VEVENT
DTSTAMP:20260426T045304
DTSTART;TZID=Europe/Berlin:20260616T130000
DTEND;TZID=Europe/Berlin:20260616T170000
UID:26JB0001-20260616T130000@STUTTGART KVJS
DESCRIPTION:3. Abschnitt: 16.06.2026
SUMMARY:Die neue Rolle als Führungskraft (26JB0001) 
LOCATION:Online-Seminar
END:VEVENT
BEGIN:VEVENT
DTSTAMP:20260426T045304
DTSTART;TZID=Europe/Berlin:20260721T100000
DTEND;TZID=Europe/Berlin:20260721T180000
UID:26JB0001-20260721T100000@STUTTGART KVJS
DESCRIPTION:4. Abschnitt: 21./22.07.2026 mit Übernachtung
SUMMARY:Die neue Rolle als Führungskraft (26JB0001) 
LOCATION:Bildungszentrum Schloss Flehingen, Gochsheimer Str. 19, 75038 Oberderdingen
END:VEVENT
BEGIN:VEVENT
DTSTAMP:20260426T045304
DTSTART;TZID=Europe/Berlin:20260722T090000
DTEND;TZID=Europe/Berlin:20260722T170000
UID:26JB0001-20260722T090000@STUTTGART KVJS
DESCRIPTION:4. Abschnitt: 21./22.07.2026 mit Übernachtung
SUMMARY:Die neue Rolle als Führungskraft (26JB0001) 
LOCATION:Bildungszentrum Schloss Flehingen, Gochsheimer Str. 19, 75038 Oberderdingen
END:VEVENT
END:VCALENDAR