BEGIN:VCALENDAR
VERSION:2.0
PRODID:https://www.kufer.de/kuferweb / DE
METHOD:PUBLISH
CALSCALE:GREGORIAN
X-WR-TIMEZONE:Europe/Berlin
BEGIN:VTIMEZONE
TZID:Europe/Berlin
X-LIC-LOCATION:Europe/Berlin
BEGIN:DAYLIGHT
TZOFFSETFROM:+0100
TZOFFSETTO:+0200
TZNAME:CEST
DTSTART:19700329T020000
RRULE:FREQ=YEARLY;INTERVAL=1;BYDAY=-1SU;BYMONTH=3
END:DAYLIGHT
BEGIN:STANDARD
TZOFFSETFROM:+0200
TZOFFSETTO:+0100
TZNAME:CET
DTSTART:19701025T030000
RRULE:FREQ=YEARLY;INTERVAL=1;BYDAY=-1SU;BYMONTH=10
END:STANDARD
END:VTIMEZONE
BEGIN:VEVENT
DTSTAMP:20260426T000700
DTSTART;TZID=Europe/Berlin:20261019T090000
DTEND;TZID=Europe/Berlin:20261019T170000
UID:26JD0001-20261019T090000@STUTTGART KVJS
DESCRIPTION:1. Abschnitt: 19./20.10.2026
SUMMARY:Grundlagen der Gesprächsführung (26JD0001) 
LOCATION:Online-Seminar
END:VEVENT
BEGIN:VEVENT
DTSTAMP:20260426T000700
DTSTART;TZID=Europe/Berlin:20261020T090000
DTEND;TZID=Europe/Berlin:20261020T170000
UID:26JD0001-20261020T090000@STUTTGART KVJS
DESCRIPTION:1. Abschnitt: 19./20.10.2026
SUMMARY:Grundlagen der Gesprächsführung (26JD0001) 
LOCATION:Online-Seminar
END:VEVENT
BEGIN:VEVENT
DTSTAMP:20260426T000700
DTSTART;TZID=Europe/Berlin:20261123T090000
DTEND;TZID=Europe/Berlin:20261123T170000
UID:26JD0001-20261123T090000@STUTTGART KVJS
DESCRIPTION:2. Abschnitt: 23./24.11.2026
SUMMARY:Grundlagen der Gesprächsführung (26JD0001) 
LOCATION:Online-Seminar
END:VEVENT
BEGIN:VEVENT
DTSTAMP:20260426T000700
DTSTART;TZID=Europe/Berlin:20261124T090000
DTEND;TZID=Europe/Berlin:20261124T170000
UID:26JD0001-20261124T090000@STUTTGART KVJS
DESCRIPTION:2. Abschnitt: 23./24.11.2026
SUMMARY:Grundlagen der Gesprächsführung (26JD0001) 
LOCATION:Online-Seminar
END:VEVENT
END:VCALENDAR