BEGIN:VCALENDAR
VERSION:2.0
PRODID:https://www.kufer.de/kuferweb / DE
METHOD:PUBLISH
CALSCALE:GREGORIAN
X-WR-TIMEZONE:Europe/Berlin
BEGIN:VTIMEZONE
TZID:Europe/Berlin
X-LIC-LOCATION:Europe/Berlin
BEGIN:DAYLIGHT
TZOFFSETFROM:+0100
TZOFFSETTO:+0200
TZNAME:CEST
DTSTART:19700329T020000
RRULE:FREQ=YEARLY;INTERVAL=1;BYDAY=-1SU;BYMONTH=3
END:DAYLIGHT
BEGIN:STANDARD
TZOFFSETFROM:+0200
TZOFFSETTO:+0100
TZNAME:CET
DTSTART:19701025T030000
RRULE:FREQ=YEARLY;INTERVAL=1;BYDAY=-1SU;BYMONTH=10
END:STANDARD
END:VTIMEZONE
BEGIN:VEVENT
DTSTAMP:20260426T014314
DTSTART;TZID=Europe/Berlin:20260914T000000
DTEND;TZID=Europe/Berlin:20260914T000100
UID:26JD0022-20260914T000000@STUTTGART KVJS
DESCRIPTION:Weitere Dozentin: Rombach-Döring, Natasha Starttermin der Online-Selbstlernphase 1: Die TN erhalten im Laufe des Tages die Zugangsdaten. Es findet kein digitaler Termin statt.
SUMMARY:Neu in der Schulsozialarbeit – Herzlich Willkommen im Arbeitsfeld! (26JD0022) 
LOCATION:Online-Seminar
END:VEVENT
BEGIN:VEVENT
DTSTAMP:20260426T014314
DTSTART;TZID=Europe/Berlin:20260925T090000
DTEND;TZID=Europe/Berlin:20260925T160000
UID:26JD0022-20260925T090000@STUTTGART KVJS
DESCRIPTION:Weitere Dozentin: Rombach-Döring, Natasha Online-Gruppenphase Auftakt
SUMMARY:Neu in der Schulsozialarbeit – Herzlich Willkommen im Arbeitsfeld! (26JD0022) 
LOCATION:Online-Seminar
END:VEVENT
BEGIN:VEVENT
DTSTAMP:20260426T014314
DTSTART;TZID=Europe/Berlin:20261106T090000
DTEND;TZID=Europe/Berlin:20261106T160000
UID:26JD0022-20261106T090000@STUTTGART KVJS
DESCRIPTION:Weitere Dozentin: Rombach-Döring, Natasha Online-Gruppenphase 1
SUMMARY:Neu in der Schulsozialarbeit – Herzlich Willkommen im Arbeitsfeld! (26JD0022) 
LOCATION:Online-Seminar
END:VEVENT
BEGIN:VEVENT
DTSTAMP:20260426T014314
DTSTART;TZID=Europe/Berlin:20261110T000000
DTEND;TZID=Europe/Berlin:20261110T000100
UID:26JD0022-20261110T000000@STUTTGART KVJS
DESCRIPTION:Weitere Dozentin: Rombach-Döring, Natasha Starttermin der Online-Selbstlernphase 2: Die TN erhalten im Laufe des Tages die Zugangsdaten. Es findet kein digitaler Termin statt.
SUMMARY:Neu in der Schulsozialarbeit – Herzlich Willkommen im Arbeitsfeld! (26JD0022) 
LOCATION:Online-Seminar
END:VEVENT
BEGIN:VEVENT
DTSTAMP:20260426T014314
DTSTART;TZID=Europe/Berlin:20261214T090000
DTEND;TZID=Europe/Berlin:20261214T160000
UID:26JD0022-20261214T090000@STUTTGART KVJS
DESCRIPTION:Weitere Dozentin: Rombach-Döring, Natasha Online-Gruppenpahse 2, 1. Tag
SUMMARY:Neu in der Schulsozialarbeit – Herzlich Willkommen im Arbeitsfeld! (26JD0022) 
LOCATION:Online-Seminar
END:VEVENT
BEGIN:VEVENT
DTSTAMP:20260426T014314
DTSTART;TZID=Europe/Berlin:20261215T090000
DTEND;TZID=Europe/Berlin:20261215T160000
UID:26JD0022-20261215T090000@STUTTGART KVJS
DESCRIPTION:Weitere Dozentin: Rombach-Döring, Natasha Online-Gruppenpahse 2, 2. Tag
SUMMARY:Neu in der Schulsozialarbeit – Herzlich Willkommen im Arbeitsfeld! (26JD0022) 
LOCATION:Online-Seminar
END:VEVENT
END:VCALENDAR