BEGIN:VCALENDAR
VERSION:2.0
PRODID:https://www.kufer.de/kuferweb / DE
METHOD:PUBLISH
CALSCALE:GREGORIAN
X-WR-TIMEZONE:Europe/Berlin
BEGIN:VTIMEZONE
TZID:Europe/Berlin
X-LIC-LOCATION:Europe/Berlin
BEGIN:DAYLIGHT
TZOFFSETFROM:+0100
TZOFFSETTO:+0200
TZNAME:CEST
DTSTART:19700329T020000
RRULE:FREQ=YEARLY;INTERVAL=1;BYDAY=-1SU;BYMONTH=3
END:DAYLIGHT
BEGIN:STANDARD
TZOFFSETFROM:+0200
TZOFFSETTO:+0100
TZNAME:CET
DTSTART:19701025T030000
RRULE:FREQ=YEARLY;INTERVAL=1;BYDAY=-1SU;BYMONTH=10
END:STANDARD
END:VTIMEZONE
BEGIN:VEVENT
DTSTAMP:20260426T050821
DTSTART;TZID=Europe/Berlin:20261021T100000
DTEND;TZID=Europe/Berlin:20261021T180000
UID:26JP0010-20261021T100000@STUTTGART KVJS
SUMMARY:Als Leitungskraft zielsicher kooperieren und verhandeln Fortbildungsreihe: Leitungskompetenz in der Jugend-, Sozial- und Eingliederungshilfe (26JP0010) 
LOCATION:Bildungszentrum Schloss Flehingen, Gochsheimer Str. 19, 75038 Oberderdingen
END:VEVENT
BEGIN:VEVENT
DTSTAMP:20260426T050821
DTSTART;TZID=Europe/Berlin:20261022T090000
DTEND;TZID=Europe/Berlin:20261022T170000
UID:26JP0010-20261022T090000@STUTTGART KVJS
SUMMARY:Als Leitungskraft zielsicher kooperieren und verhandeln Fortbildungsreihe: Leitungskompetenz in der Jugend-, Sozial- und Eingliederungshilfe (26JP0010) 
LOCATION:Bildungszentrum Schloss Flehingen, Gochsheimer Str. 19, 75038 Oberderdingen
END:VEVENT
END:VCALENDAR