BEGIN:VCALENDAR
VERSION:2.0
PRODID:https://www.kufer.de/kuferweb / DE
METHOD:PUBLISH
CALSCALE:GREGORIAN
X-WR-TIMEZONE:Europe/Berlin
BEGIN:VTIMEZONE
TZID:Europe/Berlin
X-LIC-LOCATION:Europe/Berlin
BEGIN:DAYLIGHT
TZOFFSETFROM:+0100
TZOFFSETTO:+0200
TZNAME:CEST
DTSTART:19700329T020000
RRULE:FREQ=YEARLY;INTERVAL=1;BYDAY=-1SU;BYMONTH=3
END:DAYLIGHT
BEGIN:STANDARD
TZOFFSETFROM:+0200
TZOFFSETTO:+0100
TZNAME:CET
DTSTART:19701025T030000
RRULE:FREQ=YEARLY;INTERVAL=1;BYDAY=-1SU;BYMONTH=10
END:STANDARD
END:VTIMEZONE
BEGIN:VEVENT
DTSTAMP:20260426T020156
DTSTART;TZID=Europe/Berlin:20261118T100000
DTEND;TZID=Europe/Berlin:20261118T180000
UID:26JP0011-20261118T100000@STUTTGART KVJS
SUMMARY:Als Leitungskraft Veränderungen gestalten: Mitarbeitende mitnehmen Fortbildungsreihe: Leitungskompetenz in der Jugend-, Sozial- und Eingliederungshilfe (26JP0011) 
LOCATION:Bildungszentrum Schloss Flehingen, Gochsheimer Str. 19, 75038 Oberderdingen
END:VEVENT
BEGIN:VEVENT
DTSTAMP:20260426T020156
DTSTART;TZID=Europe/Berlin:20261119T090000
DTEND;TZID=Europe/Berlin:20261119T170000
UID:26JP0011-20261119T090000@STUTTGART KVJS
SUMMARY:Als Leitungskraft Veränderungen gestalten: Mitarbeitende mitnehmen Fortbildungsreihe: Leitungskompetenz in der Jugend-, Sozial- und Eingliederungshilfe (26JP0011) 
LOCATION:Bildungszentrum Schloss Flehingen, Gochsheimer Str. 19, 75038 Oberderdingen
END:VEVENT
END:VCALENDAR