BEGIN:VCALENDAR
VERSION:2.0
PRODID:https://www.kufer.de/kuferweb / DE
METHOD:PUBLISH
CALSCALE:GREGORIAN
X-WR-TIMEZONE:Europe/Berlin
BEGIN:VTIMEZONE
TZID:Europe/Berlin
X-LIC-LOCATION:Europe/Berlin
BEGIN:DAYLIGHT
TZOFFSETFROM:+0100
TZOFFSETTO:+0200
TZNAME:CEST
DTSTART:19700329T020000
RRULE:FREQ=YEARLY;INTERVAL=1;BYDAY=-1SU;BYMONTH=3
END:DAYLIGHT
BEGIN:STANDARD
TZOFFSETFROM:+0200
TZOFFSETTO:+0100
TZNAME:CET
DTSTART:19701025T030000
RRULE:FREQ=YEARLY;INTERVAL=1;BYDAY=-1SU;BYMONTH=10
END:STANDARD
END:VTIMEZONE
BEGIN:VEVENT
DTSTAMP:20260426T034232
DTSTART;TZID=Europe/Berlin:20261013T100000
DTEND;TZID=Europe/Berlin:20261013T180000
UID:26JP0026-20261013T100000@STUTTGART KVJS
DESCRIPTION:1. Abschnitt: 13./14.10.2026 mit Übernachtung
SUMMARY:Traumapädagogik (26JP0026) 
LOCATION:Tagungszentrum Gültstein, Schloßstraße 31, 71083 Herrenberg-Gültstein
END:VEVENT
BEGIN:VEVENT
DTSTAMP:20260426T034232
DTSTART;TZID=Europe/Berlin:20261014T090000
DTEND;TZID=Europe/Berlin:20261014T170000
UID:26JP0026-20261014T090000@STUTTGART KVJS
DESCRIPTION:1. Abschnitt: 13./14.10.2026 mit Übernachtung
SUMMARY:Traumapädagogik (26JP0026) 
LOCATION:Tagungszentrum Gültstein, Schloßstraße 31, 71083 Herrenberg-Gültstein
END:VEVENT
BEGIN:VEVENT
DTSTAMP:20260426T034232
DTSTART;TZID=Europe/Berlin:20261201T100000
DTEND;TZID=Europe/Berlin:20261201T180000
UID:26JP0026-20261201T100000@STUTTGART KVJS
DESCRIPTION:2. Abschnitt: 01./02.12.2026 mit Übernachtung
SUMMARY:Traumapädagogik (26JP0026) 
LOCATION:Tagungszentrum Gültstein, Schloßstraße 31, 71083 Herrenberg-Gültstein
END:VEVENT
BEGIN:VEVENT
DTSTAMP:20260426T034232
DTSTART;TZID=Europe/Berlin:20261202T090000
DTEND;TZID=Europe/Berlin:20261202T170000
UID:26JP0026-20261202T090000@STUTTGART KVJS
DESCRIPTION:2. Abschnitt: 01./02.12.2026 mit Übernachtung
SUMMARY:Traumapädagogik (26JP0026) 
LOCATION:Tagungszentrum Gültstein, Schloßstraße 31, 71083 Herrenberg-Gültstein
END:VEVENT
END:VCALENDAR