BEGIN:VCALENDAR
VERSION:2.0
PRODID:https://www.kufer.de/kuferweb / DE
METHOD:PUBLISH
CALSCALE:GREGORIAN
X-WR-TIMEZONE:Europe/Berlin
BEGIN:VTIMEZONE
TZID:Europe/Berlin
X-LIC-LOCATION:Europe/Berlin
BEGIN:DAYLIGHT
TZOFFSETFROM:+0100
TZOFFSETTO:+0200
TZNAME:CEST
DTSTART:19700329T020000
RRULE:FREQ=YEARLY;INTERVAL=1;BYDAY=-1SU;BYMONTH=3
END:DAYLIGHT
BEGIN:STANDARD
TZOFFSETFROM:+0200
TZOFFSETTO:+0100
TZNAME:CET
DTSTART:19701025T030000
RRULE:FREQ=YEARLY;INTERVAL=1;BYDAY=-1SU;BYMONTH=10
END:STANDARD
END:VTIMEZONE
BEGIN:VEVENT
DTSTAMP:20260426T014812
DTSTART;TZID=Europe/Berlin:20260929T100000
DTEND;TZID=Europe/Berlin:20260929T180000
UID:26JP0033-20260929T100000@STUTTGART KVJS
DESCRIPTION:1. Abschnitt; 29./30.09. + 01.10.2026; weiterer Dozent: Holger Lier
SUMMARY:Neu in der Sozialpädagogischen Familienhilfe – Einführung unter systemischen Blickwinkeln (26JP0033) 
LOCATION:Tagungszentrum Gültstein, Schloßstraße 31, 71083 Herrenberg-Gültstein
END:VEVENT
BEGIN:VEVENT
DTSTAMP:20260426T014812
DTSTART;TZID=Europe/Berlin:20260930T090000
DTEND;TZID=Europe/Berlin:20260930T170000
UID:26JP0033-20260930T090000@STUTTGART KVJS
DESCRIPTION:1. Abschnitt; 29./30.09. + 01.10.2026; weiterer Dozent: Holger Lier
SUMMARY:Neu in der Sozialpädagogischen Familienhilfe – Einführung unter systemischen Blickwinkeln (26JP0033) 
LOCATION:Tagungszentrum Gültstein, Schloßstraße 31, 71083 Herrenberg-Gültstein
END:VEVENT
BEGIN:VEVENT
DTSTAMP:20260426T014812
DTSTART;TZID=Europe/Berlin:20261001T090000
DTEND;TZID=Europe/Berlin:20261001T170000
UID:26JP0033-20261001T090000@STUTTGART KVJS
DESCRIPTION:1. Abschnitt; 29./30.09. + 01.10.2026; weiterer Dozent: Holger Lier
SUMMARY:Neu in der Sozialpädagogischen Familienhilfe – Einführung unter systemischen Blickwinkeln (26JP0033) 
LOCATION:Tagungszentrum Gültstein, Schloßstraße 31, 71083 Herrenberg-Gültstein
END:VEVENT
BEGIN:VEVENT
DTSTAMP:20260426T014812
DTSTART;TZID=Europe/Berlin:20270309T100000
DTEND;TZID=Europe/Berlin:20270309T180000
UID:26JP0033-20270309T100000@STUTTGART KVJS
DESCRIPTION:2. Abschnitt: 09./10.03.2027; weiterer Dozent: Holger Lier
SUMMARY:Neu in der Sozialpädagogischen Familienhilfe – Einführung unter systemischen Blickwinkeln (26JP0033) 
LOCATION:Tagungszentrum Gültstein, Schloßstraße 31, 71083 Herrenberg-Gültstein
END:VEVENT
BEGIN:VEVENT
DTSTAMP:20260426T014812
DTSTART;TZID=Europe/Berlin:20270310T090000
DTEND;TZID=Europe/Berlin:20270310T170000
UID:26JP0033-20270310T090000@STUTTGART KVJS
DESCRIPTION:2. Abschnitt: 09./10.03.2027; weiterer Dozent: Holger Lier
SUMMARY:Neu in der Sozialpädagogischen Familienhilfe – Einführung unter systemischen Blickwinkeln (26JP0033) 
LOCATION:Tagungszentrum Gültstein, Schloßstraße 31, 71083 Herrenberg-Gültstein
END:VEVENT
END:VCALENDAR