BEGIN:VCALENDAR
VERSION:2.0
PRODID:https://www.kufer.de/kuferweb / DE
METHOD:PUBLISH
CALSCALE:GREGORIAN
X-WR-TIMEZONE:Europe/Berlin
BEGIN:VTIMEZONE
TZID:Europe/Berlin
X-LIC-LOCATION:Europe/Berlin
BEGIN:DAYLIGHT
TZOFFSETFROM:+0100
TZOFFSETTO:+0200
TZNAME:CEST
DTSTART:19700329T020000
RRULE:FREQ=YEARLY;INTERVAL=1;BYDAY=-1SU;BYMONTH=3
END:DAYLIGHT
BEGIN:STANDARD
TZOFFSETFROM:+0200
TZOFFSETTO:+0100
TZNAME:CET
DTSTART:19701025T030000
RRULE:FREQ=YEARLY;INTERVAL=1;BYDAY=-1SU;BYMONTH=10
END:STANDARD
END:VTIMEZONE
BEGIN:VEVENT
DTSTAMP:20260421T171954
DTSTART;TZID=Europe/Berlin:20260714T100000
DTEND;TZID=Europe/Berlin:20260714T174500
UID:26JP0041-20260714T100000@STUTTGART KVJS
DESCRIPTION:1. Abschnitt: 14./15./16.07.2026 mit Übernachtung Weitere Dozentin: Stark-Murgia, Monika
SUMMARY:Wahrnehmung des Schutzauftrags durch den ASD – Gefährdungseinschätzung und Hilfen bei Hinweisen auf Vernachlässigung und Gewalt gegen Kinder und Jugendliche (26JP0041) 
LOCATION:Tagungszentrum Gültstein, Schloßstraße 31, 71083 Herrenberg-Gültstein
END:VEVENT
BEGIN:VEVENT
DTSTAMP:20260421T171954
DTSTART;TZID=Europe/Berlin:20260715T090000
DTEND;TZID=Europe/Berlin:20260715T174500
UID:26JP0041-20260715T090000@STUTTGART KVJS
DESCRIPTION:1. Abschnitt: 14./15./16.07.2026 mit Übernachtung Weitere Dozentin: Stark-Murgia, Monika
SUMMARY:Wahrnehmung des Schutzauftrags durch den ASD – Gefährdungseinschätzung und Hilfen bei Hinweisen auf Vernachlässigung und Gewalt gegen Kinder und Jugendliche (26JP0041) 
LOCATION:Tagungszentrum Gültstein, Schloßstraße 31, 71083 Herrenberg-Gültstein
END:VEVENT
BEGIN:VEVENT
DTSTAMP:20260421T171954
DTSTART;TZID=Europe/Berlin:20260716T090000
DTEND;TZID=Europe/Berlin:20260716T160000
UID:26JP0041-20260716T090000@STUTTGART KVJS
DESCRIPTION:1. Abschnitt: 14./15./16.07.2026 mit Übernachtung Weitere Dozentin: Stark-Murgia, Monika
SUMMARY:Wahrnehmung des Schutzauftrags durch den ASD – Gefährdungseinschätzung und Hilfen bei Hinweisen auf Vernachlässigung und Gewalt gegen Kinder und Jugendliche (26JP0041) 
LOCATION:Tagungszentrum Gültstein, Schloßstraße 31, 71083 Herrenberg-Gültstein
END:VEVENT
BEGIN:VEVENT
DTSTAMP:20260421T171954
DTSTART;TZID=Europe/Berlin:20260922T100000
DTEND;TZID=Europe/Berlin:20260922T174500
UID:26JP0041-20260922T100000@STUTTGART KVJS
DESCRIPTION:2. Abschnitt: 22./23.09.2026 mit Übernachtung Weitere Dozentin: Stark-Murgia, Monika
SUMMARY:Wahrnehmung des Schutzauftrags durch den ASD – Gefährdungseinschätzung und Hilfen bei Hinweisen auf Vernachlässigung und Gewalt gegen Kinder und Jugendliche (26JP0041) 
LOCATION:Tagungszentrum Gültstein, Schloßstraße 31, 71083 Herrenberg-Gültstein
END:VEVENT
BEGIN:VEVENT
DTSTAMP:20260421T171954
DTSTART;TZID=Europe/Berlin:20260923T090000
DTEND;TZID=Europe/Berlin:20260923T160000
UID:26JP0041-20260923T090000@STUTTGART KVJS
DESCRIPTION:2. Abschnitt: 22./23.09.2026 mit Übernachtung Weitere Dozentin: Stark-Murgia, Monika
SUMMARY:Wahrnehmung des Schutzauftrags durch den ASD – Gefährdungseinschätzung und Hilfen bei Hinweisen auf Vernachlässigung und Gewalt gegen Kinder und Jugendliche (26JP0041) 
LOCATION:Tagungszentrum Gültstein, Schloßstraße 31, 71083 Herrenberg-Gültstein
END:VEVENT
END:VCALENDAR