BEGIN:VCALENDAR
VERSION:2.0
PRODID:https://www.kufer.de/kuferweb / DE
METHOD:PUBLISH
CALSCALE:GREGORIAN
X-WR-TIMEZONE:Europe/Berlin
BEGIN:VTIMEZONE
TZID:Europe/Berlin
X-LIC-LOCATION:Europe/Berlin
BEGIN:DAYLIGHT
TZOFFSETFROM:+0100
TZOFFSETTO:+0200
TZNAME:CEST
DTSTART:19700329T020000
RRULE:FREQ=YEARLY;INTERVAL=1;BYDAY=-1SU;BYMONTH=3
END:DAYLIGHT
BEGIN:STANDARD
TZOFFSETFROM:+0200
TZOFFSETTO:+0100
TZNAME:CET
DTSTART:19701025T030000
RRULE:FREQ=YEARLY;INTERVAL=1;BYDAY=-1SU;BYMONTH=10
END:STANDARD
END:VTIMEZONE
BEGIN:VEVENT
DTSTAMP:20260426T020158
DTSTART;TZID=Europe/Berlin:20260413T100000
DTEND;TZID=Europe/Berlin:20260413T180000
UID:26JP0045-20260413T100000@STUTTGART KVJS
DESCRIPTION:1. Abschnitt: 13./14./15.04.2026 mit Übernachtung Weiterer Dozent: Ruppert, Tobias
SUMMARY:Berufseinstieg im ASD – Qualifizierungsangebot für neue Fachkräfte (26JP0045) 
LOCATION:Tagungshaus Schönenberg
END:VEVENT
BEGIN:VEVENT
DTSTAMP:20260426T020158
DTSTART;TZID=Europe/Berlin:20260414T090000
DTEND;TZID=Europe/Berlin:20260414T180000
UID:26JP0045-20260414T090000@STUTTGART KVJS
DESCRIPTION:1. Abschnitt: 13./14./15.04.2026 mit Übernachtung Weiterer Dozent: Ruppert, Tobias
SUMMARY:Berufseinstieg im ASD – Qualifizierungsangebot für neue Fachkräfte (26JP0045) 
LOCATION:Tagungshaus Schönenberg
END:VEVENT
BEGIN:VEVENT
DTSTAMP:20260426T020158
DTSTART;TZID=Europe/Berlin:20260415T090000
DTEND;TZID=Europe/Berlin:20260415T160000
UID:26JP0045-20260415T090000@STUTTGART KVJS
DESCRIPTION:1. Abschnitt: 13./14./15.04.2026 mit Übernachtung Weiterer Dozent: Ruppert, Tobias
SUMMARY:Berufseinstieg im ASD – Qualifizierungsangebot für neue Fachkräfte (26JP0045) 
LOCATION:Tagungshaus Schönenberg
END:VEVENT
BEGIN:VEVENT
DTSTAMP:20260426T020158
DTSTART;TZID=Europe/Berlin:20260617T100000
DTEND;TZID=Europe/Berlin:20260617T180000
UID:26JP0045-20260617T100000@STUTTGART KVJS
DESCRIPTION:2. Abschnitt: 17./18./19.06.2026 mit Übernachtung Weiterer Dozent: Ruppert, Tobias
SUMMARY:Berufseinstieg im ASD – Qualifizierungsangebot für neue Fachkräfte (26JP0045) 
LOCATION:Tagungshaus Schönenberg
END:VEVENT
BEGIN:VEVENT
DTSTAMP:20260426T020158
DTSTART;TZID=Europe/Berlin:20260618T090000
DTEND;TZID=Europe/Berlin:20260618T180000
UID:26JP0045-20260618T090000@STUTTGART KVJS
DESCRIPTION:2. Abschnitt: 17./18./19.06.2026 mit Übernachtung Weiterer Dozent: Ruppert, Tobias
SUMMARY:Berufseinstieg im ASD – Qualifizierungsangebot für neue Fachkräfte (26JP0045) 
LOCATION:Tagungshaus Schönenberg
END:VEVENT
BEGIN:VEVENT
DTSTAMP:20260426T020158
DTSTART;TZID=Europe/Berlin:20260619T090000
DTEND;TZID=Europe/Berlin:20260619T160000
UID:26JP0045-20260619T090000@STUTTGART KVJS
DESCRIPTION:2. Abschnitt: 17./18./19.06.2026 mit Übernachtung Weiterer Dozent: Ruppert, Tobias
SUMMARY:Berufseinstieg im ASD – Qualifizierungsangebot für neue Fachkräfte (26JP0045) 
LOCATION:Tagungshaus Schönenberg
END:VEVENT
END:VCALENDAR