BEGIN:VCALENDAR
VERSION:2.0
PRODID:https://www.kufer.de/kuferweb / DE
METHOD:PUBLISH
CALSCALE:GREGORIAN
X-WR-TIMEZONE:Europe/Berlin
BEGIN:VTIMEZONE
TZID:Europe/Berlin
X-LIC-LOCATION:Europe/Berlin
BEGIN:DAYLIGHT
TZOFFSETFROM:+0100
TZOFFSETTO:+0200
TZNAME:CEST
DTSTART:19700329T020000
RRULE:FREQ=YEARLY;INTERVAL=1;BYDAY=-1SU;BYMONTH=3
END:DAYLIGHT
BEGIN:STANDARD
TZOFFSETFROM:+0200
TZOFFSETTO:+0100
TZNAME:CET
DTSTART:19701025T030000
RRULE:FREQ=YEARLY;INTERVAL=1;BYDAY=-1SU;BYMONTH=10
END:STANDARD
END:VTIMEZONE
BEGIN:VEVENT
DTSTAMP:20260426T032035
DTSTART;TZID=Europe/Berlin:20261021T100000
DTEND;TZID=Europe/Berlin:20261021T180000
UID:26JP0046-20261021T100000@STUTTGART KVJS
DESCRIPTION:1. Abschnitt: 21./22./23.10.2026 mit Übernachtung Weiterer Dozent: Bayer, Hansjörg
SUMMARY:Berufseinstieg im ASD – Qualifizierungsangebot für neue Fachkräfte (26JP0046) 
LOCATION:Tagungshaus Schönenberg
END:VEVENT
BEGIN:VEVENT
DTSTAMP:20260426T032035
DTSTART;TZID=Europe/Berlin:20261022T090000
DTEND;TZID=Europe/Berlin:20261022T180000
UID:26JP0046-20261022T090000@STUTTGART KVJS
DESCRIPTION:1. Abschnitt: 21./22./23.10.2026 mit Übernachtung Weiterer Dozent: Bayer, Hansjörg
SUMMARY:Berufseinstieg im ASD – Qualifizierungsangebot für neue Fachkräfte (26JP0046) 
LOCATION:Tagungshaus Schönenberg
END:VEVENT
BEGIN:VEVENT
DTSTAMP:20260426T032035
DTSTART;TZID=Europe/Berlin:20261023T090000
DTEND;TZID=Europe/Berlin:20261023T160000
UID:26JP0046-20261023T090000@STUTTGART KVJS
DESCRIPTION:1. Abschnitt: 21./22./23.10.2026 mit Übernachtung Weiterer Dozent: Bayer, Hansjörg
SUMMARY:Berufseinstieg im ASD – Qualifizierungsangebot für neue Fachkräfte (26JP0046) 
LOCATION:Tagungshaus Schönenberg
END:VEVENT
BEGIN:VEVENT
DTSTAMP:20260426T032035
DTSTART;TZID=Europe/Berlin:20261207T100000
DTEND;TZID=Europe/Berlin:20261207T180000
UID:26JP0046-20261207T100000@STUTTGART KVJS
DESCRIPTION:2. Abschnitt: 07./08./09./12.2026 mit Übernachtung Weiterer Dozent: Bayer, Hansjörg
SUMMARY:Berufseinstieg im ASD – Qualifizierungsangebot für neue Fachkräfte (26JP0046) 
LOCATION:Tagungshaus Schönenberg
END:VEVENT
BEGIN:VEVENT
DTSTAMP:20260426T032035
DTSTART;TZID=Europe/Berlin:20261208T090000
DTEND;TZID=Europe/Berlin:20261208T180000
UID:26JP0046-20261208T090000@STUTTGART KVJS
DESCRIPTION:2. Abschnitt: 07./08./09./12.2026 mit Übernachtung Weiterer Dozent: Bayer, Hansjörg
SUMMARY:Berufseinstieg im ASD – Qualifizierungsangebot für neue Fachkräfte (26JP0046) 
LOCATION:Tagungshaus Schönenberg
END:VEVENT
BEGIN:VEVENT
DTSTAMP:20260426T032035
DTSTART;TZID=Europe/Berlin:20261209T090000
DTEND;TZID=Europe/Berlin:20261209T160000
UID:26JP0046-20261209T090000@STUTTGART KVJS
DESCRIPTION:2. Abschnitt: 07./08./09./12.2026 mit Übernachtung Weiterer Dozent: Bayer, Hansjörg
SUMMARY:Berufseinstieg im ASD – Qualifizierungsangebot für neue Fachkräfte (26JP0046) 
LOCATION:Tagungshaus Schönenberg
END:VEVENT
END:VCALENDAR