BEGIN:VCALENDAR
VERSION:2.0
PRODID:https://www.kufer.de/kuferweb / DE
METHOD:PUBLISH
CALSCALE:GREGORIAN
X-WR-TIMEZONE:Europe/Berlin
BEGIN:VTIMEZONE
TZID:Europe/Berlin
X-LIC-LOCATION:Europe/Berlin
BEGIN:DAYLIGHT
TZOFFSETFROM:+0100
TZOFFSETTO:+0200
TZNAME:CEST
DTSTART:19700329T020000
RRULE:FREQ=YEARLY;INTERVAL=1;BYDAY=-1SU;BYMONTH=3
END:DAYLIGHT
BEGIN:STANDARD
TZOFFSETFROM:+0200
TZOFFSETTO:+0100
TZNAME:CET
DTSTART:19701025T030000
RRULE:FREQ=YEARLY;INTERVAL=1;BYDAY=-1SU;BYMONTH=10
END:STANDARD
END:VTIMEZONE
BEGIN:VEVENT
DTSTAMP:20260422T234807
DTSTART;TZID=Europe/Berlin:20261109T091500
DTEND;TZID=Europe/Berlin:20261109T183000
UID:26JP0049-20261109T091500@STUTTGART KVJS
SUMMARY:Jahrestagung Schulsozialarbeit (26JP0049) 
LOCATION:Ev. Akademie Bad Boll, Akademieweg 11, 73087 Bad Boll
END:VEVENT
BEGIN:VEVENT
DTSTAMP:20260422T234807
DTSTART;TZID=Europe/Berlin:20261110T090000
DTEND;TZID=Europe/Berlin:20261110T150000
UID:26JP0049-20261110T090000@STUTTGART KVJS
SUMMARY:Jahrestagung Schulsozialarbeit (26JP0049) 
LOCATION:Ev. Akademie Bad Boll, Akademieweg 11, 73087 Bad Boll
END:VEVENT
END:VCALENDAR