BEGIN:VCALENDAR
VERSION:2.0
PRODID:https://www.kufer.de/kuferweb / DE
METHOD:PUBLISH
CALSCALE:GREGORIAN
X-WR-TIMEZONE:Europe/Berlin
BEGIN:VTIMEZONE
TZID:Europe/Berlin
X-LIC-LOCATION:Europe/Berlin
BEGIN:DAYLIGHT
TZOFFSETFROM:+0100
TZOFFSETTO:+0200
TZNAME:CEST
DTSTART:19700329T020000
RRULE:FREQ=YEARLY;INTERVAL=1;BYDAY=-1SU;BYMONTH=3
END:DAYLIGHT
BEGIN:STANDARD
TZOFFSETFROM:+0200
TZOFFSETTO:+0100
TZNAME:CET
DTSTART:19701025T030000
RRULE:FREQ=YEARLY;INTERVAL=1;BYDAY=-1SU;BYMONTH=10
END:STANDARD
END:VTIMEZONE
BEGIN:VEVENT
DTSTAMP:20260426T051016
DTSTART;TZID=Europe/Berlin:20261123T093000
DTEND;TZID=Europe/Berlin:20261123T173000
UID:26JP0053-20261123T093000@STUTTGART KVJS
DESCRIPTION:Herr Hardenberg referiert am 23.11.2026 und wünscht Vor- sowie Nachübernachtung.
SUMMARY:Jahrestagung der Fachkräfte der Adoptionsvermittlung: Wenn Adoptivkinder Jugendliche werden – der Übergang vom Kindes- in das Jugend- und Erwachsenenalter (26JP0053) 
LOCATION:Tagungszentrum Gültstein, Schloßstraße 31, 71083 Herrenberg-Gültstein
END:VEVENT
BEGIN:VEVENT
DTSTAMP:20260426T051016
DTSTART;TZID=Europe/Berlin:20261124T090000
DTEND;TZID=Europe/Berlin:20261124T153000
UID:26JP0053-20261124T090000@STUTTGART KVJS
DESCRIPTION:Herr Prof. Dr. Reinhardt referiert am zweiten Tag im zeitraum 09:00 - 13:00 Uhr.
SUMMARY:Jahrestagung der Fachkräfte der Adoptionsvermittlung: Wenn Adoptivkinder Jugendliche werden – der Übergang vom Kindes- in das Jugend- und Erwachsenenalter (26JP0053) 
LOCATION:Tagungszentrum Gültstein, Schloßstraße 31, 71083 Herrenberg-Gültstein
END:VEVENT
END:VCALENDAR