BEGIN:VCALENDAR
VERSION:2.0
PRODID:https://www.kufer.de/kuferweb / DE
METHOD:PUBLISH
CALSCALE:GREGORIAN
X-WR-TIMEZONE:Europe/Berlin
BEGIN:VTIMEZONE
TZID:Europe/Berlin
X-LIC-LOCATION:Europe/Berlin
BEGIN:DAYLIGHT
TZOFFSETFROM:+0100
TZOFFSETTO:+0200
TZNAME:CEST
DTSTART:19700329T020000
RRULE:FREQ=YEARLY;INTERVAL=1;BYDAY=-1SU;BYMONTH=3
END:DAYLIGHT
BEGIN:STANDARD
TZOFFSETFROM:+0200
TZOFFSETTO:+0100
TZNAME:CET
DTSTART:19701025T030000
RRULE:FREQ=YEARLY;INTERVAL=1;BYDAY=-1SU;BYMONTH=10
END:STANDARD
END:VTIMEZONE
BEGIN:VEVENT
DTSTAMP:20260426T014259
DTSTART;TZID=Europe/Berlin:20260706T140000
DTEND;TZID=Europe/Berlin:20260706T180000
UID:26JP0076-20260706T140000@STUTTGART KVJS
DESCRIPTION:Weitere/r DozentIn: noch nicht bekannt
SUMMARY:Zusammenarbeit, die wirkt – Schule und Jugendsozialarbeit gestalten die Übergänge von Schule in den Beruf gemeinsam (26JP0076) 
LOCATION:ZSL Aussenstelle Bad Wildbad
END:VEVENT
BEGIN:VEVENT
DTSTAMP:20260426T014259
DTSTART;TZID=Europe/Berlin:20260707T090000
DTEND;TZID=Europe/Berlin:20260707T180000
UID:26JP0076-20260707T090000@STUTTGART KVJS
DESCRIPTION:Weitere/r DozentIn: noch nicht bekannt
SUMMARY:Zusammenarbeit, die wirkt – Schule und Jugendsozialarbeit gestalten die Übergänge von Schule in den Beruf gemeinsam (26JP0076) 
LOCATION:ZSL Aussenstelle Bad Wildbad
END:VEVENT
BEGIN:VEVENT
DTSTAMP:20260426T014259
DTSTART;TZID=Europe/Berlin:20260708T090000
DTEND;TZID=Europe/Berlin:20260708T130000
UID:26JP0076-20260708T090000@STUTTGART KVJS
DESCRIPTION:Weitere/r DozentIn: noch nicht bekannt
SUMMARY:Zusammenarbeit, die wirkt – Schule und Jugendsozialarbeit gestalten die Übergänge von Schule in den Beruf gemeinsam (26JP0076) 
LOCATION:ZSL Aussenstelle Bad Wildbad
END:VEVENT
END:VCALENDAR