BEGIN:VCALENDAR
VERSION:2.0
PRODID:https://www.kufer.de/kuferweb / DE
METHOD:PUBLISH
CALSCALE:GREGORIAN
X-WR-TIMEZONE:Europe/Berlin
BEGIN:VTIMEZONE
TZID:Europe/Berlin
X-LIC-LOCATION:Europe/Berlin
BEGIN:DAYLIGHT
TZOFFSETFROM:+0100
TZOFFSETTO:+0200
TZNAME:CEST
DTSTART:19700329T020000
RRULE:FREQ=YEARLY;INTERVAL=1;BYDAY=-1SU;BYMONTH=3
END:DAYLIGHT
BEGIN:STANDARD
TZOFFSETFROM:+0200
TZOFFSETTO:+0100
TZNAME:CET
DTSTART:19701025T030000
RRULE:FREQ=YEARLY;INTERVAL=1;BYDAY=-1SU;BYMONTH=10
END:STANDARD
END:VTIMEZONE
BEGIN:VEVENT
DTSTAMP:20260426T034237
DTSTART;TZID=Europe/Berlin:20260916T093000
DTEND;TZID=Europe/Berlin:20260916T163000
UID:26KH0001-20260916T093000@STUTTGART KVJS
SUMMARY:Basisqualifizierung Kleinkindpädagogik - beziehungsvolle Krippenpädagogik umsetzen nach dem Orientierungsplan Baden-Württemberg (26KH0001) 
LOCATION:Tagungszentrum Gültstein, Schloßstraße 31, 71083 Herrenberg-Gültstein
END:VEVENT
BEGIN:VEVENT
DTSTAMP:20260426T034237
DTSTART;TZID=Europe/Berlin:20260917T090000
DTEND;TZID=Europe/Berlin:20260917T160000
UID:26KH0001-20260917T090000@STUTTGART KVJS
SUMMARY:Basisqualifizierung Kleinkindpädagogik - beziehungsvolle Krippenpädagogik umsetzen nach dem Orientierungsplan Baden-Württemberg (26KH0001) 
LOCATION:Tagungszentrum Gültstein, Schloßstraße 31, 71083 Herrenberg-Gültstein
END:VEVENT
BEGIN:VEVENT
DTSTAMP:20260426T034237
DTSTART;TZID=Europe/Berlin:20261015T093000
DTEND;TZID=Europe/Berlin:20261015T163000
UID:26KH0001-20261015T093000@STUTTGART KVJS
SUMMARY:Basisqualifizierung Kleinkindpädagogik - beziehungsvolle Krippenpädagogik umsetzen nach dem Orientierungsplan Baden-Württemberg (26KH0001) 
LOCATION:Tagungszentrum Gültstein, Schloßstraße 31, 71083 Herrenberg-Gültstein
END:VEVENT
BEGIN:VEVENT
DTSTAMP:20260426T034237
DTSTART;TZID=Europe/Berlin:20261016T090000
DTEND;TZID=Europe/Berlin:20261016T160000
UID:26KH0001-20261016T090000@STUTTGART KVJS
SUMMARY:Basisqualifizierung Kleinkindpädagogik - beziehungsvolle Krippenpädagogik umsetzen nach dem Orientierungsplan Baden-Württemberg (26KH0001) 
LOCATION:Tagungszentrum Gültstein, Schloßstraße 31, 71083 Herrenberg-Gültstein
END:VEVENT
BEGIN:VEVENT
DTSTAMP:20260426T034237
DTSTART;TZID=Europe/Berlin:20261208T090000
DTEND;TZID=Europe/Berlin:20261208T160000
UID:26KH0001-20261208T090000@STUTTGART KVJS
SUMMARY:Basisqualifizierung Kleinkindpädagogik - beziehungsvolle Krippenpädagogik umsetzen nach dem Orientierungsplan Baden-Württemberg (26KH0001) 
LOCATION:Online-Seminar
END:VEVENT
BEGIN:VEVENT
DTSTAMP:20260426T034237
DTSTART;TZID=Europe/Berlin:20261209T090000
DTEND;TZID=Europe/Berlin:20261209T160000
UID:26KH0001-20261209T090000@STUTTGART KVJS
SUMMARY:Basisqualifizierung Kleinkindpädagogik - beziehungsvolle Krippenpädagogik umsetzen nach dem Orientierungsplan Baden-Württemberg (26KH0001) 
LOCATION:Online-Seminar
END:VEVENT
BEGIN:VEVENT
DTSTAMP:20260426T034237
DTSTART;TZID=Europe/Berlin:20270223T090000
DTEND;TZID=Europe/Berlin:20270223T160000
UID:26KH0001-20270223T090000@STUTTGART KVJS
SUMMARY:Basisqualifizierung Kleinkindpädagogik - beziehungsvolle Krippenpädagogik umsetzen nach dem Orientierungsplan Baden-Württemberg (26KH0001) 
LOCATION:Online-Seminar
END:VEVENT
BEGIN:VEVENT
DTSTAMP:20260426T034237
DTSTART;TZID=Europe/Berlin:20270224T090000
DTEND;TZID=Europe/Berlin:20270224T160000
UID:26KH0001-20270224T090000@STUTTGART KVJS
SUMMARY:Basisqualifizierung Kleinkindpädagogik - beziehungsvolle Krippenpädagogik umsetzen nach dem Orientierungsplan Baden-Württemberg (26KH0001) 
LOCATION:Online-Seminar
END:VEVENT
BEGIN:VEVENT
DTSTAMP:20260426T034237
DTSTART;TZID=Europe/Berlin:20270406T090000
DTEND;TZID=Europe/Berlin:20270406T160000
UID:26KH0001-20270406T090000@STUTTGART KVJS
SUMMARY:Basisqualifizierung Kleinkindpädagogik - beziehungsvolle Krippenpädagogik umsetzen nach dem Orientierungsplan Baden-Württemberg (26KH0001) 
LOCATION:Online-Seminar
END:VEVENT
BEGIN:VEVENT
DTSTAMP:20260426T034237
DTSTART;TZID=Europe/Berlin:20270407T090000
DTEND;TZID=Europe/Berlin:20270407T160000
UID:26KH0001-20270407T090000@STUTTGART KVJS
SUMMARY:Basisqualifizierung Kleinkindpädagogik - beziehungsvolle Krippenpädagogik umsetzen nach dem Orientierungsplan Baden-Württemberg (26KH0001) 
LOCATION:Online-Seminar
END:VEVENT
BEGIN:VEVENT
DTSTAMP:20260426T034237
DTSTART;TZID=Europe/Berlin:20270512T093000
DTEND;TZID=Europe/Berlin:20270512T163000
UID:26KH0001-20270512T093000@STUTTGART KVJS
SUMMARY:Basisqualifizierung Kleinkindpädagogik - beziehungsvolle Krippenpädagogik umsetzen nach dem Orientierungsplan Baden-Württemberg (26KH0001) 
LOCATION:Tagungszentrum Gültstein, Schloßstraße 31, 71083 Herrenberg-Gültstein
END:VEVENT
BEGIN:VEVENT
DTSTAMP:20260426T034237
DTSTART;TZID=Europe/Berlin:20270513T090000
DTEND;TZID=Europe/Berlin:20270513T160000
UID:26KH0001-20270513T090000@STUTTGART KVJS
SUMMARY:Basisqualifizierung Kleinkindpädagogik - beziehungsvolle Krippenpädagogik umsetzen nach dem Orientierungsplan Baden-Württemberg (26KH0001) 
LOCATION:Tagungszentrum Gültstein, Schloßstraße 31, 71083 Herrenberg-Gültstein
END:VEVENT
BEGIN:VEVENT
DTSTAMP:20260426T034237
DTSTART;TZID=Europe/Berlin:20270622T093000
DTEND;TZID=Europe/Berlin:20270622T163000
UID:26KH0001-20270622T093000@STUTTGART KVJS
SUMMARY:Basisqualifizierung Kleinkindpädagogik - beziehungsvolle Krippenpädagogik umsetzen nach dem Orientierungsplan Baden-Württemberg (26KH0001) 
LOCATION:Tagungszentrum Gültstein, Schloßstraße 31, 71083 Herrenberg-Gültstein
END:VEVENT
END:VCALENDAR