BEGIN:VCALENDAR
VERSION:2.0
PRODID:https://www.kufer.de/kuferweb / DE
METHOD:PUBLISH
CALSCALE:GREGORIAN
X-WR-TIMEZONE:Europe/Berlin
BEGIN:VTIMEZONE
TZID:Europe/Berlin
X-LIC-LOCATION:Europe/Berlin
BEGIN:DAYLIGHT
TZOFFSETFROM:+0100
TZOFFSETTO:+0200
TZNAME:CEST
DTSTART:19700329T020000
RRULE:FREQ=YEARLY;INTERVAL=1;BYDAY=-1SU;BYMONTH=3
END:DAYLIGHT
BEGIN:STANDARD
TZOFFSETFROM:+0200
TZOFFSETTO:+0100
TZNAME:CET
DTSTART:19701025T030000
RRULE:FREQ=YEARLY;INTERVAL=1;BYDAY=-1SU;BYMONTH=10
END:STANDARD
END:VTIMEZONE
BEGIN:VEVENT
DTSTAMP:20260421T171953
DTSTART;TZID=Europe/Berlin:20261015T093000
DTEND;TZID=Europe/Berlin:20261015T163000
UID:26KP0031-20261015T093000@STUTTGART KVJS
SUMMARY:Kultursensible Präventionsarbeit zum Schutz vor sexualisierter Gewalt - Umgang mit Sexualität, Sexualerziehung und sexualisierter Gewalt in der interkulturellen Elternarbeit (26KP0031) 
LOCATION:Bildungszentrum Schloss Flehingen, Gochsheimer Str. 19, 75038 Oberderdingen
END:VEVENT
END:VCALENDAR