BEGIN:VCALENDAR
VERSION:2.0
PRODID:https://www.kufer.de/kuferweb / DE
METHOD:PUBLISH
CALSCALE:GREGORIAN
X-WR-TIMEZONE:Europe/Berlin
BEGIN:VTIMEZONE
TZID:Europe/Berlin
X-LIC-LOCATION:Europe/Berlin
BEGIN:DAYLIGHT
TZOFFSETFROM:+0100
TZOFFSETTO:+0200
TZNAME:CEST
DTSTART:19700329T020000
RRULE:FREQ=YEARLY;INTERVAL=1;BYDAY=-1SU;BYMONTH=3
END:DAYLIGHT
BEGIN:STANDARD
TZOFFSETFROM:+0200
TZOFFSETTO:+0100
TZNAME:CET
DTSTART:19701025T030000
RRULE:FREQ=YEARLY;INTERVAL=1;BYDAY=-1SU;BYMONTH=10
END:STANDARD
END:VTIMEZONE
BEGIN:VEVENT
DTSTAMP:20260425T210307
DTSTART;TZID=Europe/Berlin:20261006T093000
DTEND;TZID=Europe/Berlin:20261006T163000
UID:26KP0049-20261006T093000@STUTTGART KVJS
SUMMARY:"Ohne Leitung geht es nicht!" Professionelles Management von Kindertageseinrichtungen 2026/2027 (26KP0049) 
LOCATION:Tagungszentrum Gültstein, Schloßstraße 31, 71083 Herrenberg-Gültstein
END:VEVENT
BEGIN:VEVENT
DTSTAMP:20260425T210307
DTSTART;TZID=Europe/Berlin:20261007T090000
DTEND;TZID=Europe/Berlin:20261007T160000
UID:26KP0049-20261007T090000@STUTTGART KVJS
SUMMARY:"Ohne Leitung geht es nicht!" Professionelles Management von Kindertageseinrichtungen 2026/2027 (26KP0049) 
LOCATION:Tagungszentrum Gültstein, Schloßstraße 31, 71083 Herrenberg-Gültstein
END:VEVENT
BEGIN:VEVENT
DTSTAMP:20260425T210307
DTSTART;TZID=Europe/Berlin:20261103T093000
DTEND;TZID=Europe/Berlin:20261103T163000
UID:26KP0049-20261103T093000@STUTTGART KVJS
SUMMARY:"Ohne Leitung geht es nicht!" Professionelles Management von Kindertageseinrichtungen 2026/2027 (26KP0049) 
LOCATION:Tagungszentrum Gültstein, Schloßstraße 31, 71083 Herrenberg-Gültstein
END:VEVENT
BEGIN:VEVENT
DTSTAMP:20260425T210307
DTSTART;TZID=Europe/Berlin:20261104T090000
DTEND;TZID=Europe/Berlin:20261104T160000
UID:26KP0049-20261104T090000@STUTTGART KVJS
SUMMARY:"Ohne Leitung geht es nicht!" Professionelles Management von Kindertageseinrichtungen 2026/2027 (26KP0049) 
LOCATION:Tagungszentrum Gültstein, Schloßstraße 31, 71083 Herrenberg-Gültstein
END:VEVENT
BEGIN:VEVENT
DTSTAMP:20260425T210307
DTSTART;TZID=Europe/Berlin:20261105T090000
DTEND;TZID=Europe/Berlin:20261105T160000
UID:26KP0049-20261105T090000@STUTTGART KVJS
SUMMARY:"Ohne Leitung geht es nicht!" Professionelles Management von Kindertageseinrichtungen 2026/2027 (26KP0049) 
LOCATION:Tagungszentrum Gültstein, Schloßstraße 31, 71083 Herrenberg-Gültstein
END:VEVENT
BEGIN:VEVENT
DTSTAMP:20260425T210307
DTSTART;TZID=Europe/Berlin:20270118T093000
DTEND;TZID=Europe/Berlin:20270118T163000
UID:26KP0049-20270118T093000@STUTTGART KVJS
SUMMARY:"Ohne Leitung geht es nicht!" Professionelles Management von Kindertageseinrichtungen 2026/2027 (26KP0049) 
LOCATION:Tagungszentrum Gültstein, Schloßstraße 31, 71083 Herrenberg-Gültstein
END:VEVENT
BEGIN:VEVENT
DTSTAMP:20260425T210307
DTSTART;TZID=Europe/Berlin:20270119T090000
DTEND;TZID=Europe/Berlin:20270119T160000
UID:26KP0049-20270119T090000@STUTTGART KVJS
SUMMARY:"Ohne Leitung geht es nicht!" Professionelles Management von Kindertageseinrichtungen 2026/2027 (26KP0049) 
LOCATION:Tagungszentrum Gültstein, Schloßstraße 31, 71083 Herrenberg-Gültstein
END:VEVENT
BEGIN:VEVENT
DTSTAMP:20260425T210307
DTSTART;TZID=Europe/Berlin:20270309T093000
DTEND;TZID=Europe/Berlin:20270309T163000
UID:26KP0049-20270309T093000@STUTTGART KVJS
SUMMARY:"Ohne Leitung geht es nicht!" Professionelles Management von Kindertageseinrichtungen 2026/2027 (26KP0049) 
LOCATION:Tagungszentrum Gültstein, Schloßstraße 31, 71083 Herrenberg-Gültstein
END:VEVENT
BEGIN:VEVENT
DTSTAMP:20260425T210307
DTSTART;TZID=Europe/Berlin:20270310T090000
DTEND;TZID=Europe/Berlin:20270310T160000
UID:26KP0049-20270310T090000@STUTTGART KVJS
SUMMARY:"Ohne Leitung geht es nicht!" Professionelles Management von Kindertageseinrichtungen 2026/2027 (26KP0049) 
LOCATION:Tagungszentrum Gültstein, Schloßstraße 31, 71083 Herrenberg-Gültstein
END:VEVENT
BEGIN:VEVENT
DTSTAMP:20260425T210307
DTSTART;TZID=Europe/Berlin:20270413T093000
DTEND;TZID=Europe/Berlin:20270413T163000
UID:26KP0049-20270413T093000@STUTTGART KVJS
SUMMARY:"Ohne Leitung geht es nicht!" Professionelles Management von Kindertageseinrichtungen 2026/2027 (26KP0049) 
LOCATION:Tagungszentrum Gültstein, Schloßstraße 31, 71083 Herrenberg-Gültstein
END:VEVENT
BEGIN:VEVENT
DTSTAMP:20260425T210307
DTSTART;TZID=Europe/Berlin:20270414T090000
DTEND;TZID=Europe/Berlin:20270414T160000
UID:26KP0049-20270414T090000@STUTTGART KVJS
SUMMARY:"Ohne Leitung geht es nicht!" Professionelles Management von Kindertageseinrichtungen 2026/2027 (26KP0049) 
LOCATION:Tagungszentrum Gültstein, Schloßstraße 31, 71083 Herrenberg-Gültstein
END:VEVENT
BEGIN:VEVENT
DTSTAMP:20260425T210307
DTSTART;TZID=Europe/Berlin:20270511T093000
DTEND;TZID=Europe/Berlin:20270511T163000
UID:26KP0049-20270511T093000@STUTTGART KVJS
SUMMARY:"Ohne Leitung geht es nicht!" Professionelles Management von Kindertageseinrichtungen 2026/2027 (26KP0049) 
LOCATION:Tagungszentrum Gültstein, Schloßstraße 31, 71083 Herrenberg-Gültstein
END:VEVENT
BEGIN:VEVENT
DTSTAMP:20260425T210307
DTSTART;TZID=Europe/Berlin:20270512T090000
DTEND;TZID=Europe/Berlin:20270512T160000
UID:26KP0049-20270512T090000@STUTTGART KVJS
SUMMARY:"Ohne Leitung geht es nicht!" Professionelles Management von Kindertageseinrichtungen 2026/2027 (26KP0049) 
LOCATION:Tagungszentrum Gültstein, Schloßstraße 31, 71083 Herrenberg-Gültstein
END:VEVENT
BEGIN:VEVENT
DTSTAMP:20260425T210307
DTSTART;TZID=Europe/Berlin:20270607T093000
DTEND;TZID=Europe/Berlin:20270607T163000
UID:26KP0049-20270607T093000@STUTTGART KVJS
SUMMARY:"Ohne Leitung geht es nicht!" Professionelles Management von Kindertageseinrichtungen 2026/2027 (26KP0049) 
LOCATION:Tagungszentrum Gültstein, Schloßstraße 31, 71083 Herrenberg-Gültstein
END:VEVENT
BEGIN:VEVENT
DTSTAMP:20260425T210307
DTSTART;TZID=Europe/Berlin:20270608T090000
DTEND;TZID=Europe/Berlin:20270608T160000
UID:26KP0049-20270608T090000@STUTTGART KVJS
SUMMARY:"Ohne Leitung geht es nicht!" Professionelles Management von Kindertageseinrichtungen 2026/2027 (26KP0049) 
LOCATION:Tagungszentrum Gültstein, Schloßstraße 31, 71083 Herrenberg-Gültstein
END:VEVENT
BEGIN:VEVENT
DTSTAMP:20260425T210307
DTSTART;TZID=Europe/Berlin:20270706T093000
DTEND;TZID=Europe/Berlin:20270706T163000
UID:26KP0049-20270706T093000@STUTTGART KVJS
SUMMARY:"Ohne Leitung geht es nicht!" Professionelles Management von Kindertageseinrichtungen 2026/2027 (26KP0049) 
LOCATION:Tagungszentrum Gültstein, Schloßstraße 31, 71083 Herrenberg-Gültstein
END:VEVENT
BEGIN:VEVENT
DTSTAMP:20260425T210307
DTSTART;TZID=Europe/Berlin:20270707T090000
DTEND;TZID=Europe/Berlin:20270707T160000
UID:26KP0049-20270707T090000@STUTTGART KVJS
SUMMARY:"Ohne Leitung geht es nicht!" Professionelles Management von Kindertageseinrichtungen 2026/2027 (26KP0049) 
LOCATION:Tagungszentrum Gültstein, Schloßstraße 31, 71083 Herrenberg-Gültstein
END:VEVENT
BEGIN:VEVENT
DTSTAMP:20260425T210307
DTSTART;TZID=Europe/Berlin:20270708T090000
DTEND;TZID=Europe/Berlin:20270708T160000
UID:26KP0049-20270708T090000@STUTTGART KVJS
SUMMARY:"Ohne Leitung geht es nicht!" Professionelles Management von Kindertageseinrichtungen 2026/2027 (26KP0049) 
LOCATION:Tagungszentrum Gültstein, Schloßstraße 31, 71083 Herrenberg-Gültstein
END:VEVENT
END:VCALENDAR