BEGIN:VCALENDAR
VERSION:2.0
PRODID:https://www.kufer.de/kuferweb / DE
METHOD:PUBLISH
CALSCALE:GREGORIAN
X-WR-TIMEZONE:Europe/Berlin
BEGIN:VTIMEZONE
TZID:Europe/Berlin
X-LIC-LOCATION:Europe/Berlin
BEGIN:DAYLIGHT
TZOFFSETFROM:+0100
TZOFFSETTO:+0200
TZNAME:CEST
DTSTART:19700329T020000
RRULE:FREQ=YEARLY;INTERVAL=1;BYDAY=-1SU;BYMONTH=3
END:DAYLIGHT
BEGIN:STANDARD
TZOFFSETFROM:+0200
TZOFFSETTO:+0100
TZNAME:CET
DTSTART:19701025T030000
RRULE:FREQ=YEARLY;INTERVAL=1;BYDAY=-1SU;BYMONTH=10
END:STANDARD
END:VTIMEZONE
BEGIN:VEVENT
DTSTAMP:20260426T014254
DTSTART;TZID=Europe/Berlin:20261005T100000
DTEND;TZID=Europe/Berlin:20261005T180000
UID:26PP0006-20261005T100000@STUTTGART KVJS
DESCRIPTION:Grotwinkel Leins
SUMMARY:Grundqualifizierung für die Schwangerschaftskonfliktberatung und Schwangerschaftsberatung (26PP0006) 
LOCATION:Bildungszentrum Schloss Flehingen, Gochsheimer Str. 19, 75038 Oberderdingen
END:VEVENT
BEGIN:VEVENT
DTSTAMP:20260426T014254
DTSTART;TZID=Europe/Berlin:20261006T090000
DTEND;TZID=Europe/Berlin:20261006T160000
UID:26PP0006-20261006T090000@STUTTGART KVJS
DESCRIPTION:Grotwinkel Leins
SUMMARY:Grundqualifizierung für die Schwangerschaftskonfliktberatung und Schwangerschaftsberatung (26PP0006) 
LOCATION:Bildungszentrum Schloss Flehingen, Gochsheimer Str. 19, 75038 Oberderdingen
END:VEVENT
BEGIN:VEVENT
DTSTAMP:20260426T014254
DTSTART;TZID=Europe/Berlin:20261111T100000
DTEND;TZID=Europe/Berlin:20261111T180000
UID:26PP0006-20261111T100000@STUTTGART KVJS
DESCRIPTION:Grotwinkel Leins
SUMMARY:Grundqualifizierung für die Schwangerschaftskonfliktberatung und Schwangerschaftsberatung (26PP0006) 
LOCATION:Bildungszentrum Schloss Flehingen, Gochsheimer Str. 19, 75038 Oberderdingen
END:VEVENT
BEGIN:VEVENT
DTSTAMP:20260426T014254
DTSTART;TZID=Europe/Berlin:20261112T090000
DTEND;TZID=Europe/Berlin:20261112T160000
UID:26PP0006-20261112T090000@STUTTGART KVJS
DESCRIPTION:Grotwinkel Leins
SUMMARY:Grundqualifizierung für die Schwangerschaftskonfliktberatung und Schwangerschaftsberatung (26PP0006) 
LOCATION:Bildungszentrum Schloss Flehingen, Gochsheimer Str. 19, 75038 Oberderdingen
END:VEVENT
BEGIN:VEVENT
DTSTAMP:20260426T014254
DTSTART;TZID=Europe/Berlin:20261209T100000
DTEND;TZID=Europe/Berlin:20261209T180000
UID:26PP0006-20261209T100000@STUTTGART KVJS
DESCRIPTION:Grotwinkel Leins
SUMMARY:Grundqualifizierung für die Schwangerschaftskonfliktberatung und Schwangerschaftsberatung (26PP0006) 
LOCATION:Bildungszentrum Schloss Flehingen, Gochsheimer Str. 19, 75038 Oberderdingen
END:VEVENT
BEGIN:VEVENT
DTSTAMP:20260426T014254
DTSTART;TZID=Europe/Berlin:20261210T090000
DTEND;TZID=Europe/Berlin:20261210T160000
UID:26PP0006-20261210T090000@STUTTGART KVJS
DESCRIPTION:Grotwinkel Leins
SUMMARY:Grundqualifizierung für die Schwangerschaftskonfliktberatung und Schwangerschaftsberatung (26PP0006) 
LOCATION:Bildungszentrum Schloss Flehingen, Gochsheimer Str. 19, 75038 Oberderdingen
END:VEVENT
END:VCALENDAR