BEGIN:VCALENDAR
VERSION:2.0
PRODID:https://www.kufer.de/kuferweb / DE
METHOD:PUBLISH
CALSCALE:GREGORIAN
X-WR-TIMEZONE:Europe/Berlin
BEGIN:VTIMEZONE
TZID:Europe/Berlin
X-LIC-LOCATION:Europe/Berlin
BEGIN:DAYLIGHT
TZOFFSETFROM:+0100
TZOFFSETTO:+0200
TZNAME:CEST
DTSTART:19700329T020000
RRULE:FREQ=YEARLY;INTERVAL=1;BYDAY=-1SU;BYMONTH=3
END:DAYLIGHT
BEGIN:STANDARD
TZOFFSETFROM:+0200
TZOFFSETTO:+0100
TZNAME:CET
DTSTART:19701025T030000
RRULE:FREQ=YEARLY;INTERVAL=1;BYDAY=-1SU;BYMONTH=10
END:STANDARD
END:VTIMEZONE
BEGIN:VEVENT
DTSTAMP:20260426T031319
DTSTART;TZID=Europe/Berlin:20261202T090000
DTEND;TZID=Europe/Berlin:20261202T123000
UID:26RD0036-20261202T090000@STUTTGART KVJS
SUMMARY:Strafrecht – Betreute als Täter oder Opfer einer Straftat (26RD0036) 
LOCATION:Online-Seminar
END:VEVENT
BEGIN:VEVENT
DTSTAMP:20260426T031319
DTSTART;TZID=Europe/Berlin:20261203T090000
DTEND;TZID=Europe/Berlin:20261203T123000
UID:26RD0036-20261203T090000@STUTTGART KVJS
SUMMARY:Strafrecht – Betreute als Täter oder Opfer einer Straftat (26RD0036) 
LOCATION:Online-Seminar
END:VEVENT
END:VCALENDAR