BEGIN:VCALENDAR
VERSION:2.0
PRODID:https://www.kufer.de/kuferweb / DE
METHOD:PUBLISH
CALSCALE:GREGORIAN
X-WR-TIMEZONE:Europe/Berlin
BEGIN:VTIMEZONE
TZID:Europe/Berlin
X-LIC-LOCATION:Europe/Berlin
BEGIN:DAYLIGHT
TZOFFSETFROM:+0100
TZOFFSETTO:+0200
TZNAME:CEST
DTSTART:19700329T020000
RRULE:FREQ=YEARLY;INTERVAL=1;BYDAY=-1SU;BYMONTH=3
END:DAYLIGHT
BEGIN:STANDARD
TZOFFSETFROM:+0200
TZOFFSETTO:+0100
TZNAME:CET
DTSTART:19701025T030000
RRULE:FREQ=YEARLY;INTERVAL=1;BYDAY=-1SU;BYMONTH=10
END:STANDARD
END:VTIMEZONE
BEGIN:VEVENT
DTSTAMP:20260426T000714
DTSTART;TZID=Europe/Berlin:20261020T093000
DTEND;TZID=Europe/Berlin:20261020T163000
UID:26SP0021-20261020T093000@STUTTGART KVJS
SUMMARY:Modul 1: Der Einsatz von Einkommen und Vermögen in der Eingliederungshilfe  Qualifizierungsreihe Sachbearbeitung (26SP0021) 
LOCATION:KVJS Stuttgart, Lindenspürstraße 39, Stuttgart
END:VEVENT
END:VCALENDAR