BEGIN:VCALENDAR
VERSION:2.0
PRODID:https://www.kufer.de/kuferweb / DE
METHOD:PUBLISH
CALSCALE:GREGORIAN
X-WR-TIMEZONE:Europe/Berlin
BEGIN:VTIMEZONE
TZID:Europe/Berlin
X-LIC-LOCATION:Europe/Berlin
BEGIN:DAYLIGHT
TZOFFSETFROM:+0100
TZOFFSETTO:+0200
TZNAME:CEST
DTSTART:19700329T020000
RRULE:FREQ=YEARLY;INTERVAL=1;BYDAY=-1SU;BYMONTH=3
END:DAYLIGHT
BEGIN:STANDARD
TZOFFSETFROM:+0200
TZOFFSETTO:+0100
TZNAME:CET
DTSTART:19701025T030000
RRULE:FREQ=YEARLY;INTERVAL=1;BYDAY=-1SU;BYMONTH=10
END:STANDARD
END:VTIMEZONE
BEGIN:VEVENT
DTSTAMP:20260426T000650
DTSTART;TZID=Europe/Berlin:20260915T093000
DTEND;TZID=Europe/Berlin:20260915T170000
UID:26SP0035-20260915T093000@STUTTGART KVJS
DESCRIPTION:Weitere Dozenten: Marc Haase Martin Bothner Susanne Werz
SUMMARY:Basisseminar – Einführung in die Eingliederungshilfe für neue Mitarbeitende (26SP0035) 
LOCATION:Bildungszentrum Schloss Flehingen, Gochsheimer Str. 19, 75038 Oberderdingen
END:VEVENT
BEGIN:VEVENT
DTSTAMP:20260426T000650
DTSTART;TZID=Europe/Berlin:20260916T090000
DTEND;TZID=Europe/Berlin:20260916T163000
UID:26SP0035-20260916T090000@STUTTGART KVJS
DESCRIPTION:Weitere Dozenten: Clemens Körner Martin Bothner Susanne Werz MPD Ref 23
SUMMARY:Basisseminar – Einführung in die Eingliederungshilfe für neue Mitarbeitende (26SP0035) 
LOCATION:Bildungszentrum Schloss Flehingen, Gochsheimer Str. 19, 75038 Oberderdingen
END:VEVENT
END:VCALENDAR