BEGIN:VCALENDAR
VERSION:2.0
PRODID:https://www.kufer.de/kuferweb / DE
METHOD:PUBLISH
CALSCALE:GREGORIAN
X-WR-TIMEZONE:Europe/Berlin
BEGIN:VTIMEZONE
TZID:Europe/Berlin
X-LIC-LOCATION:Europe/Berlin
BEGIN:DAYLIGHT
TZOFFSETFROM:+0100
TZOFFSETTO:+0200
TZNAME:CEST
DTSTART:19700329T020000
RRULE:FREQ=YEARLY;INTERVAL=1;BYDAY=-1SU;BYMONTH=3
END:DAYLIGHT
BEGIN:STANDARD
TZOFFSETFROM:+0200
TZOFFSETTO:+0100
TZNAME:CET
DTSTART:19701025T030000
RRULE:FREQ=YEARLY;INTERVAL=1;BYDAY=-1SU;BYMONTH=10
END:STANDARD
END:VTIMEZONE
BEGIN:VEVENT
DTSTAMP:20260425T223052
DTSTART;TZID=Europe/Berlin:20260504T093000
DTEND;TZID=Europe/Berlin:20260504T163000
UID:26SP0038-20260504T093000@STUTTGART KVJS
DESCRIPTION:Weitere Dozenten:  Jan Etzel Luisa Hein Jara Wagner Susanne Werz
SUMMARY:Modul 3: Vom Antrag bis zur Feststellung der Leistung  Qualifizierungsreihe Teilhabemanagement und Sachbearbeitung (26SP0038) 
LOCATION:Tagungszentrum Gültstein, Schloßstraße 31, 71083 Herrenberg-Gültstein
END:VEVENT
BEGIN:VEVENT
DTSTAMP:20260425T223052
DTSTART;TZID=Europe/Berlin:20260505T090000
DTEND;TZID=Europe/Berlin:20260505T160000
UID:26SP0038-20260505T090000@STUTTGART KVJS
DESCRIPTION:Weitere Dozenten:  Jan Etzel Luisa Hein Jara Wagner Susanne Werz
SUMMARY:Modul 3: Vom Antrag bis zur Feststellung der Leistung  Qualifizierungsreihe Teilhabemanagement und Sachbearbeitung (26SP0038) 
LOCATION:Tagungszentrum Gültstein, Schloßstraße 31, 71083 Herrenberg-Gültstein
END:VEVENT
END:VCALENDAR